BEGIN:VCALENDAR
VERSION:2.0
PRODID:-//Centre de Femmes Liber&#039;Elles - ECPv6.15.14//NONSGML v1.0//EN
CALSCALE:GREGORIAN
METHOD:PUBLISH
X-ORIGINAL-URL:https://www.liberelles.org
X-WR-CALDESC:Évènements pour Centre de Femmes Liber&#039;Elles
REFRESH-INTERVAL;VALUE=DURATION:PT1H
X-Robots-Tag:noindex
X-PUBLISHED-TTL:PT1H
BEGIN:VTIMEZONE
TZID:America/Toronto
BEGIN:DAYLIGHT
TZOFFSETFROM:-0500
TZOFFSETTO:-0400
TZNAME:EDT
DTSTART:20250309T070000
END:DAYLIGHT
BEGIN:STANDARD
TZOFFSETFROM:-0400
TZOFFSETTO:-0500
TZNAME:EST
DTSTART:20251102T060000
END:STANDARD
BEGIN:DAYLIGHT
TZOFFSETFROM:-0500
TZOFFSETTO:-0400
TZNAME:EDT
DTSTART:20260308T070000
END:DAYLIGHT
BEGIN:STANDARD
TZOFFSETFROM:-0400
TZOFFSETTO:-0500
TZNAME:EST
DTSTART:20261101T060000
END:STANDARD
BEGIN:DAYLIGHT
TZOFFSETFROM:-0500
TZOFFSETTO:-0400
TZNAME:EDT
DTSTART:20270314T070000
END:DAYLIGHT
BEGIN:STANDARD
TZOFFSETFROM:-0400
TZOFFSETTO:-0500
TZNAME:EST
DTSTART:20271107T060000
END:STANDARD
END:VTIMEZONE
BEGIN:VEVENT
DTSTART;TZID=America/Toronto:20260413T130000
DTEND;TZID=America/Toronto:20260413T150000
DTSTAMP:20260421T022709
CREATED:20251218T180248Z
LAST-MODIFIED:20251218T180248Z
UID:5185-1776085200-1776092400@www.liberelles.org
SUMMARY:Café Saint-Janvier
DESCRIPTION:Le café causerie est un lieu d’échanges et de partages empreint d’écoute et de respect. Il permet aux participantes de partager un moment toutes ensemble et de discuter sur le sujet du jour. \nEndroit : Centre Culturel Joseph Savard à Saint-Janvier
URL:https://www.liberelles.org/activite/cafe-saint-janvier-2/2026-04-13/
LOCATION:Centre culturel Joseph Savard\, 13 908 Boul. Curé-Labelle\, St-Janvier\, Québec\, J7J 1L3\, Canada
CATEGORIES:Café soleil
END:VEVENT
BEGIN:VEVENT
DTSTART;TZID=America/Toronto:20260216T130000
DTEND;TZID=America/Toronto:20260216T150000
DTSTAMP:20260421T022709
CREATED:20251218T180248Z
LAST-MODIFIED:20260407T175348Z
UID:5018-1771246800-1771254000@www.liberelles.org
SUMMARY:Café Saint-Janvier
DESCRIPTION:Le café causerie est un lieu d’échanges et de partages empreint d’écoute et de respect. Il permet aux participantes de partager un moment toutes ensemble et de discuter sur le sujet du jour. \nEndroit : Centre Culturel Joseph Savard à Saint-Janvier
URL:https://www.liberelles.org/activite/cafe-saint-janvier-2/2026-02-16/
LOCATION:Centre culturel Joseph Savard\, 13 908 Boul. Curé-Labelle\, St-Janvier\, Québec\, J7J 1L3\, Canada
CATEGORIES:Café soleil
END:VEVENT
BEGIN:VEVENT
DTSTART;TZID=America/Toronto:20260112T130000
DTEND;TZID=America/Toronto:20260112T150000
DTSTAMP:20260421T022709
CREATED:20251218T180248Z
LAST-MODIFIED:20260407T175348Z
UID:5017-1768222800-1768230000@www.liberelles.org
SUMMARY:Café Saint-Janvier
DESCRIPTION:Le café causerie est un lieu d’échanges et de partages empreint d’écoute et de respect. Il permet aux participantes de partager un moment toutes ensemble et de discuter sur le sujet du jour. \nEndroit : Centre Culturel Joseph Savard à Saint-Janvier
URL:https://www.liberelles.org/activite/cafe-saint-janvier-2/2026-01-12/
LOCATION:Centre culturel Joseph Savard\, 13 908 Boul. Curé-Labelle\, St-Janvier\, Québec\, J7J 1L3\, Canada
CATEGORIES:Café soleil
END:VEVENT
END:VCALENDAR