BEGIN:VCALENDAR
VERSION:2.0
PRODID:-//Centre de Femmes Liber&#039;Elles - ECPv6.15.14//NONSGML v1.0//EN
CALSCALE:GREGORIAN
METHOD:PUBLISH
X-WR-CALNAME:Centre de Femmes Liber&#039;Elles
X-ORIGINAL-URL:https://www.liberelles.org
X-WR-CALDESC:Évènements pour Centre de Femmes Liber&#039;Elles
REFRESH-INTERVAL;VALUE=DURATION:PT1H
X-Robots-Tag:noindex
X-PUBLISHED-TTL:PT1H
BEGIN:VTIMEZONE
TZID:America/Toronto
BEGIN:DAYLIGHT
TZOFFSETFROM:-0500
TZOFFSETTO:-0400
TZNAME:EDT
DTSTART:20250309T070000
END:DAYLIGHT
BEGIN:STANDARD
TZOFFSETFROM:-0400
TZOFFSETTO:-0500
TZNAME:EST
DTSTART:20251102T060000
END:STANDARD
BEGIN:DAYLIGHT
TZOFFSETFROM:-0500
TZOFFSETTO:-0400
TZNAME:EDT
DTSTART:20260308T070000
END:DAYLIGHT
BEGIN:STANDARD
TZOFFSETFROM:-0400
TZOFFSETTO:-0500
TZNAME:EST
DTSTART:20261101T060000
END:STANDARD
BEGIN:DAYLIGHT
TZOFFSETFROM:-0500
TZOFFSETTO:-0400
TZNAME:EDT
DTSTART:20270314T070000
END:DAYLIGHT
BEGIN:STANDARD
TZOFFSETFROM:-0400
TZOFFSETTO:-0500
TZNAME:EST
DTSTART:20271107T060000
END:STANDARD
END:VTIMEZONE
BEGIN:VEVENT
DTSTART;VALUE=DATE:20260327
DTEND;VALUE=DATE:20260328
DTSTAMP:20260421T065112
CREATED:20251218T190434Z
LAST-MODIFIED:20260129T163000Z
UID:5112-1774569600-1774655999@www.liberelles.org
SUMMARY:CENTRE FERMÉ
DESCRIPTION:
URL:https://www.liberelles.org/activite/centre-ferme-30/2026-03-27/
END:VEVENT
BEGIN:VEVENT
DTSTART;VALUE=DATE:20260320
DTEND;VALUE=DATE:20260321
DTSTAMP:20260421T065112
CREATED:20251218T190434Z
LAST-MODIFIED:20260129T163000Z
UID:5111-1773964800-1774051199@www.liberelles.org
SUMMARY:CENTRE FERMÉ
DESCRIPTION:
URL:https://www.liberelles.org/activite/centre-ferme-30/2026-03-20/
END:VEVENT
BEGIN:VEVENT
DTSTART;VALUE=DATE:20260313
DTEND;VALUE=DATE:20260314
DTSTAMP:20260421T065112
CREATED:20251218T190434Z
LAST-MODIFIED:20260129T163000Z
UID:5110-1773360000-1773446399@www.liberelles.org
SUMMARY:CENTRE FERMÉ
DESCRIPTION:
URL:https://www.liberelles.org/activite/centre-ferme-30/2026-03-13/
END:VEVENT
BEGIN:VEVENT
DTSTART;VALUE=DATE:20260227
DTEND;VALUE=DATE:20260228
DTSTAMP:20260421T065112
CREATED:20251218T190434Z
LAST-MODIFIED:20260129T163000Z
UID:5109-1772150400-1772236799@www.liberelles.org
SUMMARY:CENTRE FERMÉ
DESCRIPTION:
URL:https://www.liberelles.org/activite/centre-ferme-30/2026-02-27/
END:VEVENT
BEGIN:VEVENT
DTSTART;VALUE=DATE:20260220
DTEND;VALUE=DATE:20260221
DTSTAMP:20260421T065112
CREATED:20251218T190434Z
LAST-MODIFIED:20260129T163000Z
UID:5108-1771545600-1771631999@www.liberelles.org
SUMMARY:CENTRE FERMÉ
DESCRIPTION:
URL:https://www.liberelles.org/activite/centre-ferme-30/2026-02-20/
END:VEVENT
BEGIN:VEVENT
DTSTART;VALUE=DATE:20260212
DTEND;VALUE=DATE:20260213
DTSTAMP:20260421T065112
CREATED:20251218T190434Z
LAST-MODIFIED:20260129T163000Z
UID:5054-1770854400-1770940799@www.liberelles.org
SUMMARY:CENTRE FERMÉ
DESCRIPTION:
URL:https://www.liberelles.org/activite/centre-ferme-30/2026-02-12/
END:VEVENT
BEGIN:VEVENT
DTSTART;VALUE=DATE:20260209
DTEND;VALUE=DATE:20260210
DTSTAMP:20260421T065112
CREATED:20251218T190434Z
LAST-MODIFIED:20260129T163000Z
UID:5053-1770595200-1770681599@www.liberelles.org
SUMMARY:CENTRE FERMÉ
DESCRIPTION:
URL:https://www.liberelles.org/activite/centre-ferme-30/2026-02-09/
END:VEVENT
BEGIN:VEVENT
DTSTART;VALUE=DATE:20260206
DTEND;VALUE=DATE:20260207
DTSTAMP:20260421T065112
CREATED:20251218T190434Z
LAST-MODIFIED:20260129T163000Z
UID:5052-1770336000-1770422399@www.liberelles.org
SUMMARY:CENTRE FERMÉ
DESCRIPTION:
URL:https://www.liberelles.org/activite/centre-ferme-30/2026-02-06/
END:VEVENT
BEGIN:VEVENT
DTSTART;VALUE=DATE:20260202
DTEND;VALUE=DATE:20260203
DTSTAMP:20260421T065112
CREATED:20251218T190434Z
LAST-MODIFIED:20260129T162959Z
UID:5051-1769990400-1770076799@www.liberelles.org
SUMMARY:CENTRE FERMÉ
DESCRIPTION:
URL:https://www.liberelles.org/activite/centre-ferme-30/2026-02-02/
END:VEVENT
END:VCALENDAR