BEGIN:VCALENDAR
VERSION:2.0
PRODID:-//Centre de Femmes Liber&#039;Elles - ECPv6.15.14//NONSGML v1.0//EN
CALSCALE:GREGORIAN
METHOD:PUBLISH
X-ORIGINAL-URL:https://www.liberelles.org
X-WR-CALDESC:Évènements pour Centre de Femmes Liber&#039;Elles
REFRESH-INTERVAL;VALUE=DURATION:PT1H
X-Robots-Tag:noindex
X-PUBLISHED-TTL:PT1H
BEGIN:VTIMEZONE
TZID:America/Toronto
BEGIN:DAYLIGHT
TZOFFSETFROM:-0500
TZOFFSETTO:-0400
TZNAME:EDT
DTSTART:20240310T070000
END:DAYLIGHT
BEGIN:STANDARD
TZOFFSETFROM:-0400
TZOFFSETTO:-0500
TZNAME:EST
DTSTART:20241103T060000
END:STANDARD
BEGIN:DAYLIGHT
TZOFFSETFROM:-0500
TZOFFSETTO:-0400
TZNAME:EDT
DTSTART:20250309T070000
END:DAYLIGHT
BEGIN:STANDARD
TZOFFSETFROM:-0400
TZOFFSETTO:-0500
TZNAME:EST
DTSTART:20251102T060000
END:STANDARD
BEGIN:DAYLIGHT
TZOFFSETFROM:-0500
TZOFFSETTO:-0400
TZNAME:EDT
DTSTART:20260308T070000
END:DAYLIGHT
BEGIN:STANDARD
TZOFFSETFROM:-0400
TZOFFSETTO:-0500
TZNAME:EST
DTSTART:20261101T060000
END:STANDARD
END:VTIMEZONE
BEGIN:VEVENT
DTSTART;TZID=America/Toronto:20250326T093000
DTEND;TZID=America/Toronto:20250326T120000
DTSTAMP:20260421T082450
CREATED:20250212T213047Z
LAST-MODIFIED:20250212T213047Z
UID:4861-1742981400-1742990400@www.liberelles.org
SUMMARY:Réunion d'équipe
DESCRIPTION:Veuillez prendre note que les travailleuses ne seront pas disponibles pour le milieu de vie ou pour répondre aux appels.
URL:https://www.liberelles.org/activite/reunion-dequipe-8/2025-03-26/
LOCATION:Centre de femmes Liber’Elles\, 9381 Côte des Saints\, Mirabel\, Quebec\, J7N 2X4\, Canada
END:VEVENT
BEGIN:VEVENT
DTSTART;TZID=America/Toronto:20250313T120000
DTEND;TZID=America/Toronto:20250313T160000
DTSTAMP:20260421T082450
CREATED:20250212T213047Z
LAST-MODIFIED:20250212T213047Z
UID:4860-1741867200-1741881600@www.liberelles.org
SUMMARY:Réunion d'équipe
DESCRIPTION:Veuillez prendre note que les travailleuses ne seront pas disponibles pour le milieu de vie ou pour répondre aux appels.
URL:https://www.liberelles.org/activite/reunion-dequipe-8/2025-03-13/
LOCATION:Centre de femmes Liber’Elles\, 9381 Côte des Saints\, Mirabel\, Quebec\, J7N 2X4\, Canada
END:VEVENT
BEGIN:VEVENT
DTSTART;TZID=America/Toronto:20250227T120000
DTEND;TZID=America/Toronto:20250227T160000
DTSTAMP:20260421T082450
CREATED:20250212T213047Z
LAST-MODIFIED:20250304T165418Z
UID:4840-1740657600-1740672000@www.liberelles.org
SUMMARY:Réunion d'équipe
DESCRIPTION:Veuillez prendre note que les travailleuses ne seront pas disponibles pour le milieu de vie ou pour répondre aux appels.
URL:https://www.liberelles.org/activite/reunion-dequipe-8/2025-02-27/
LOCATION:Centre de femmes Liber’Elles\, 9381 Côte des Saints\, Mirabel\, Quebec\, J7N 2X4\, Canada
END:VEVENT
END:VCALENDAR