BEGIN:VCALENDAR
VERSION:2.0
PRODID:-//Centre de Femmes Liber&#039;Elles - ECPv6.15.14//NONSGML v1.0//EN
CALSCALE:GREGORIAN
METHOD:PUBLISH
X-WR-CALNAME:Centre de Femmes Liber&#039;Elles
X-ORIGINAL-URL:https://www.liberelles.org
X-WR-CALDESC:Évènements pour Centre de Femmes Liber&#039;Elles
REFRESH-INTERVAL;VALUE=DURATION:PT1H
X-Robots-Tag:noindex
X-PUBLISHED-TTL:PT1H
BEGIN:VTIMEZONE
TZID:America/Toronto
BEGIN:DAYLIGHT
TZOFFSETFROM:-0500
TZOFFSETTO:-0400
TZNAME:EDT
DTSTART:20240310T070000
END:DAYLIGHT
BEGIN:STANDARD
TZOFFSETFROM:-0400
TZOFFSETTO:-0500
TZNAME:EST
DTSTART:20241103T060000
END:STANDARD
BEGIN:DAYLIGHT
TZOFFSETFROM:-0500
TZOFFSETTO:-0400
TZNAME:EDT
DTSTART:20250309T070000
END:DAYLIGHT
BEGIN:STANDARD
TZOFFSETFROM:-0400
TZOFFSETTO:-0500
TZNAME:EST
DTSTART:20251102T060000
END:STANDARD
BEGIN:DAYLIGHT
TZOFFSETFROM:-0500
TZOFFSETTO:-0400
TZNAME:EDT
DTSTART:20260308T070000
END:DAYLIGHT
BEGIN:STANDARD
TZOFFSETFROM:-0400
TZOFFSETTO:-0500
TZNAME:EST
DTSTART:20261101T060000
END:STANDARD
END:VTIMEZONE
BEGIN:VEVENT
DTSTART;TZID=America/Toronto:20250923T110000
DTEND;TZID=America/Toronto:20250923T123000
DTSTAMP:20260419T082351
CREATED:20250909T185451Z
LAST-MODIFIED:20250909T185451Z
UID:4936-1758625200-1758630600@www.liberelles.org
SUMMARY:Dîner causerie
DESCRIPTION:Venez dînez avec nous et partagez un moment convivial où l’on échange librement sur les sujets d’actualité du moment. Un espace ouvert à la discussion\, aux réflexions collectives et aux points de vue variés\, dans le respect et l’écoute de chacun. \nApportez votre lunch. Un micro-onde\, four et frigo sont disponible sur place. \nThématique du 23 septembre : Marche mondiale des femmes 2025
URL:https://www.liberelles.org/activite/diner-causerie/
LOCATION:Centre de femmes Liber’Elles\, 9381 Côte des Saints\, Mirabel\, Quebec\, J7N 2X4\, Canada
END:VEVENT
BEGIN:VEVENT
DTSTART;TZID=America/Toronto:20250923T130000
DTEND;TZID=America/Toronto:20250923T150000
DTSTAMP:20260419T082351
CREATED:20250909T185555Z
LAST-MODIFIED:20250909T185555Z
UID:4938-1758632400-1758639600@www.liberelles.org
SUMMARY:Causerie Prévenir les fraudes : s’informer pour mieux se protéger
DESCRIPTION:Dans un cadre convivial et sécurisant\, les préventionnistes du service de police de Mirabel\, vous propose une causerie sur le thème des fraudes. Cette rencontre s’adresse aux femmes de tous âges et vise à outiller chacune face aux arnaques courantes\, que ce soit en ligne\, par téléphone ou dans la vie quotidienne. Un moment d’échange pour s’informer\, poser ses questions et renforcer son sentiment de sécurité.
URL:https://www.liberelles.org/activite/causerie-prevenir-les-fraudes-sinformer-pour-mieux-se-proteger/
LOCATION:Centre de femmes Liber’Elles\, 9381 Côte des Saints\, Mirabel\, Quebec\, J7N 2X4\, Canada
END:VEVENT
END:VCALENDAR