BEGIN:VCALENDAR
VERSION:2.0
PRODID:-//Centre de Femmes Liber&#039;Elles - ECPv6.15.14//NONSGML v1.0//EN
CALSCALE:GREGORIAN
METHOD:PUBLISH
X-ORIGINAL-URL:https://www.liberelles.org
X-WR-CALDESC:Évènements pour Centre de Femmes Liber&#039;Elles
REFRESH-INTERVAL;VALUE=DURATION:PT1H
X-Robots-Tag:noindex
X-PUBLISHED-TTL:PT1H
BEGIN:VTIMEZONE
TZID:America/Toronto
BEGIN:DAYLIGHT
TZOFFSETFROM:-0500
TZOFFSETTO:-0400
TZNAME:EDT
DTSTART:20240310T070000
END:DAYLIGHT
BEGIN:STANDARD
TZOFFSETFROM:-0400
TZOFFSETTO:-0500
TZNAME:EST
DTSTART:20241103T060000
END:STANDARD
BEGIN:DAYLIGHT
TZOFFSETFROM:-0500
TZOFFSETTO:-0400
TZNAME:EDT
DTSTART:20250309T070000
END:DAYLIGHT
BEGIN:STANDARD
TZOFFSETFROM:-0400
TZOFFSETTO:-0500
TZNAME:EST
DTSTART:20251102T060000
END:STANDARD
BEGIN:DAYLIGHT
TZOFFSETFROM:-0500
TZOFFSETTO:-0400
TZNAME:EDT
DTSTART:20260308T070000
END:DAYLIGHT
BEGIN:STANDARD
TZOFFSETFROM:-0400
TZOFFSETTO:-0500
TZNAME:EST
DTSTART:20261101T060000
END:STANDARD
END:VTIMEZONE
BEGIN:VEVENT
DTSTART;TZID=America/Toronto:20250930T100000
DTEND;TZID=America/Toronto:20250930T120000
DTSTAMP:20260419T095445
CREATED:20250909T183610Z
LAST-MODIFIED:20250909T183610Z
UID:4928-1759226400-1759233600@www.liberelles.org
SUMMARY:Milieu de vie
DESCRIPTION:Le milieu de vie est un moment durant lequel les portes du Centre s’ouvrent pour vous recevoir. Ce service permet aux femmes de se sentir moins seules et isolées en échangeant avec les autres femmes présentent. Il s’agit d’un moment libre durant lequel vous pouvez prendre un café avec une travailleuse\, contribuer à notre casse-tête collectif\, jouer à des jeux de société dans nos locaux\, etc.
URL:https://www.liberelles.org/activite/milieu-de-vie-3/2025-09-30/
LOCATION:Centre de femmes Liber’Elles\, 9381 Côte des Saints\, Mirabel\, Quebec\, J7N 2X4\, Canada
END:VEVENT
BEGIN:VEVENT
DTSTART;TZID=America/Toronto:20250930T130000
DTEND;TZID=America/Toronto:20250930T150000
DTSTAMP:20260419T095445
CREATED:20240826T160022Z
LAST-MODIFIED:20251208T163910Z
UID:4903-1759237200-1759244400@www.liberelles.org
SUMMARY:La plume créative
DESCRIPTION:Les mardis sur deux de 13h00 à 15h00 \n** NOUVELLE FORMULE ** \nL’atelier d’écriture créative fait peau neuve cette année avec une formule renouvelée\, résolument tournée vers l’expression artistique et intuitive. Chaque séance sera une invitation à explorer votre imagination à travers différents médiums pour libérer la créativité. \n  \n 
URL:https://www.liberelles.org/activite/ecriture-3/2025-09-30/
LOCATION:Centre de femmes Liber’Elles\, 9381 Côte des Saints\, Mirabel\, Quebec\, J7N 2X4\, Canada
CATEGORIES:Atelier d'écriture
END:VEVENT
END:VCALENDAR