BEGIN:VCALENDAR
VERSION:2.0
PRODID:-//Centre de Femmes Liber&#039;Elles - ECPv6.15.14//NONSGML v1.0//EN
CALSCALE:GREGORIAN
METHOD:PUBLISH
X-WR-CALNAME:Centre de Femmes Liber&#039;Elles
X-ORIGINAL-URL:https://www.liberelles.org
X-WR-CALDESC:Évènements pour Centre de Femmes Liber&#039;Elles
REFRESH-INTERVAL;VALUE=DURATION:PT1H
X-Robots-Tag:noindex
X-PUBLISHED-TTL:PT1H
BEGIN:VTIMEZONE
TZID:America/Toronto
BEGIN:DAYLIGHT
TZOFFSETFROM:-0500
TZOFFSETTO:-0400
TZNAME:EDT
DTSTART:20240310T070000
END:DAYLIGHT
BEGIN:STANDARD
TZOFFSETFROM:-0400
TZOFFSETTO:-0500
TZNAME:EST
DTSTART:20241103T060000
END:STANDARD
BEGIN:DAYLIGHT
TZOFFSETFROM:-0500
TZOFFSETTO:-0400
TZNAME:EDT
DTSTART:20250309T070000
END:DAYLIGHT
BEGIN:STANDARD
TZOFFSETFROM:-0400
TZOFFSETTO:-0500
TZNAME:EST
DTSTART:20251102T060000
END:STANDARD
BEGIN:DAYLIGHT
TZOFFSETFROM:-0500
TZOFFSETTO:-0400
TZNAME:EDT
DTSTART:20260308T070000
END:DAYLIGHT
BEGIN:STANDARD
TZOFFSETFROM:-0400
TZOFFSETTO:-0500
TZNAME:EST
DTSTART:20261101T060000
END:STANDARD
END:VTIMEZONE
BEGIN:VEVENT
DTSTART;TZID=America/Toronto:20251204T093000
DTEND;TZID=America/Toronto:20251204T120000
DTSTAMP:20260419T113221
CREATED:20251124T211835Z
LAST-MODIFIED:20251124T211835Z
UID:4979-1764840600-1764849600@www.liberelles.org
SUMMARY:Réunion d'équipe
DESCRIPTION:Veuillez prendre note que les travailleuses ne seront pas disponibles pour le milieu de vie ou pour répondre aux appels 
URL:https://www.liberelles.org/activite/reunion-dequipe-10/
END:VEVENT
BEGIN:VEVENT
DTSTART;TZID=America/Toronto:20251204T130000
DTEND;TZID=America/Toronto:20251204T150000
DTSTAMP:20260419T113221
CREATED:20251124T204810Z
LAST-MODIFIED:20251124T204810Z
UID:4962-1764853200-1764860400@www.liberelles.org
SUMMARY:Milieu de vie
DESCRIPTION:Le milieu de vie est un moment durant lequel les portes du Centre s’ouvrent pour vous recevoir. Ce service permet aux femmes de se sentir moins seules et isolées en échangeant avec les autres femmes présentent. Il s’agit d’un moment libre durant lequel vous pouvez prendre un café avec une travailleuse\, contribuer à notre casse-tête collectif\, jouer à des jeux de société dans nos locaux\, etc.
URL:https://www.liberelles.org/activite/milieu-de-vie-4/2025-12-04/
END:VEVENT
END:VCALENDAR