BEGIN:VCALENDAR
VERSION:2.0
PRODID:-//Centre de Femmes Liber&#039;Elles - ECPv6.15.14//NONSGML v1.0//EN
CALSCALE:GREGORIAN
METHOD:PUBLISH
X-ORIGINAL-URL:https://www.liberelles.org
X-WR-CALDESC:Évènements pour Centre de Femmes Liber&#039;Elles
REFRESH-INTERVAL;VALUE=DURATION:PT1H
X-Robots-Tag:noindex
X-PUBLISHED-TTL:PT1H
BEGIN:VTIMEZONE
TZID:America/Toronto
BEGIN:DAYLIGHT
TZOFFSETFROM:-0500
TZOFFSETTO:-0400
TZNAME:EDT
DTSTART:20240310T070000
END:DAYLIGHT
BEGIN:STANDARD
TZOFFSETFROM:-0400
TZOFFSETTO:-0500
TZNAME:EST
DTSTART:20241103T060000
END:STANDARD
BEGIN:DAYLIGHT
TZOFFSETFROM:-0500
TZOFFSETTO:-0400
TZNAME:EDT
DTSTART:20250309T070000
END:DAYLIGHT
BEGIN:STANDARD
TZOFFSETFROM:-0400
TZOFFSETTO:-0500
TZNAME:EST
DTSTART:20251102T060000
END:STANDARD
BEGIN:DAYLIGHT
TZOFFSETFROM:-0500
TZOFFSETTO:-0400
TZNAME:EDT
DTSTART:20260308T070000
END:DAYLIGHT
BEGIN:STANDARD
TZOFFSETFROM:-0400
TZOFFSETTO:-0500
TZNAME:EST
DTSTART:20261101T060000
END:STANDARD
END:VTIMEZONE
BEGIN:VEVENT
DTSTART;TZID=America/Toronto:20251211T113000
DTEND;TZID=America/Toronto:20251211T143000
DTSTAMP:20260419T185238
CREATED:20251124T212357Z
LAST-MODIFIED:20251208T163507Z
UID:4981-1765452600-1765463400@www.liberelles.org
SUMMARY:Dîner de Noël des membres
DESCRIPTION:Vous êtes conviées à notre traditionnel dîner de Noël ! Au menu\, dîne pizza gracieuseté de Pizza Salvatore. \nNous sollicitions votre collaboration pour apporter une entrée ou un dessert afin de bien compléter notre repas. Vous pourrez nommer le plat que vous apporterez lors de votre inscription. \nIl y aura des jeux pour le plaisir ainsi que des prix de présence et des surprises ! Soyez des nôtres pour célébrer l’arrivée du temps des fêtes. \n  \nEndroit : Au Pignon d’Art de Ste-Scholastique – 11 111 Côte des Saints\, Mirabel (Sainte-Scholastique)
URL:https://www.liberelles.org/activite/diner-de-noel-des-membres/
END:VEVENT
END:VCALENDAR