BEGIN:VCALENDAR
VERSION:2.0
PRODID:-//Centre de Femmes Liber&#039;Elles - ECPv6.15.14//NONSGML v1.0//EN
CALSCALE:GREGORIAN
METHOD:PUBLISH
X-WR-CALNAME:Centre de Femmes Liber&#039;Elles
X-ORIGINAL-URL:https://www.liberelles.org
X-WR-CALDESC:Évènements pour Centre de Femmes Liber&#039;Elles
REFRESH-INTERVAL;VALUE=DURATION:PT1H
X-Robots-Tag:noindex
X-PUBLISHED-TTL:PT1H
BEGIN:VTIMEZONE
TZID:America/Toronto
BEGIN:DAYLIGHT
TZOFFSETFROM:-0500
TZOFFSETTO:-0400
TZNAME:EDT
DTSTART:20240310T070000
END:DAYLIGHT
BEGIN:STANDARD
TZOFFSETFROM:-0400
TZOFFSETTO:-0500
TZNAME:EST
DTSTART:20241103T060000
END:STANDARD
BEGIN:DAYLIGHT
TZOFFSETFROM:-0500
TZOFFSETTO:-0400
TZNAME:EDT
DTSTART:20250309T070000
END:DAYLIGHT
BEGIN:STANDARD
TZOFFSETFROM:-0400
TZOFFSETTO:-0500
TZNAME:EST
DTSTART:20251102T060000
END:STANDARD
BEGIN:DAYLIGHT
TZOFFSETFROM:-0500
TZOFFSETTO:-0400
TZNAME:EDT
DTSTART:20260308T070000
END:DAYLIGHT
BEGIN:STANDARD
TZOFFSETFROM:-0400
TZOFFSETTO:-0500
TZNAME:EST
DTSTART:20261101T060000
END:STANDARD
BEGIN:DAYLIGHT
TZOFFSETFROM:-0500
TZOFFSETTO:-0400
TZNAME:EDT
DTSTART:20270314T070000
END:DAYLIGHT
BEGIN:STANDARD
TZOFFSETFROM:-0400
TZOFFSETTO:-0500
TZNAME:EST
DTSTART:20271107T060000
END:STANDARD
END:VTIMEZONE
BEGIN:VEVENT
DTSTART;TZID=America/Toronto:20251218T120000
DTEND;TZID=America/Toronto:20260105T180000
DTSTAMP:20260420T092856
CREATED:20251124T205416Z
LAST-MODIFIED:20251124T205416Z
UID:4967-1766059200-1767636000@www.liberelles.org
SUMMARY:CENTRE FERMÉ
DESCRIPTION:Veuillez prendre note que le Centre sera fermé pendant le temps des fêtes\, soit du jeudi 18 décembre dès 12h00 au lundi 5 janvier inclusivement. Nos travailleuses seront de retour au bureau dès le mardi 6 janvier à 9h00.\n\n\n\nPour toutes urgences concernant la violence conjugale (écoute\, demande d’hébergement\, demande de suivi externe\, etc.)\, vous pouvez contacter SOS Violence Conjugale en composant le 1-800-363-9010 (service disponible 24/7)\nhttps://sosviolenceconjugale.ca/fr\n\n\n\nPour toutes urgences autres (itinérance\, santé mentale\, etc.)\, vous pouvez contacter l’accueil psychosocial en composant le 811 option 2 (service disponible 24/7).\n\n\nAu plaisir de vous retrouvez en janvier
URL:https://www.liberelles.org/activite/centre-ferme-29/
END:VEVENT
END:VCALENDAR