BEGIN:VCALENDAR
VERSION:2.0
PRODID:-//Centre de Femmes Liber&#039;Elles - ECPv6.15.14//NONSGML v1.0//EN
CALSCALE:GREGORIAN
METHOD:PUBLISH
X-WR-CALNAME:Centre de Femmes Liber&#039;Elles
X-ORIGINAL-URL:https://www.liberelles.org
X-WR-CALDESC:Évènements pour Centre de Femmes Liber&#039;Elles
REFRESH-INTERVAL;VALUE=DURATION:PT1H
X-Robots-Tag:noindex
X-PUBLISHED-TTL:PT1H
BEGIN:VTIMEZONE
TZID:America/Toronto
BEGIN:DAYLIGHT
TZOFFSETFROM:-0500
TZOFFSETTO:-0400
TZNAME:EDT
DTSTART:20250309T070000
END:DAYLIGHT
BEGIN:STANDARD
TZOFFSETFROM:-0400
TZOFFSETTO:-0500
TZNAME:EST
DTSTART:20251102T060000
END:STANDARD
BEGIN:DAYLIGHT
TZOFFSETFROM:-0500
TZOFFSETTO:-0400
TZNAME:EDT
DTSTART:20260308T070000
END:DAYLIGHT
BEGIN:STANDARD
TZOFFSETFROM:-0400
TZOFFSETTO:-0500
TZNAME:EST
DTSTART:20261101T060000
END:STANDARD
BEGIN:DAYLIGHT
TZOFFSETFROM:-0500
TZOFFSETTO:-0400
TZNAME:EDT
DTSTART:20270314T070000
END:DAYLIGHT
BEGIN:STANDARD
TZOFFSETFROM:-0400
TZOFFSETTO:-0500
TZNAME:EST
DTSTART:20271107T060000
END:STANDARD
END:VTIMEZONE
BEGIN:VEVENT
DTSTART;TZID=America/Toronto:20260204T100000
DTEND;TZID=America/Toronto:20260204T140000
DTSTAMP:20260421T063911
CREATED:20251218T183516Z
LAST-MODIFIED:20251218T183516Z
UID:5041-1770199200-1770213600@www.liberelles.org
SUMMARY:On cuisine\, on dîne + Activité de sensibilisation aux troubles alimentaires
DESCRIPTION:Venez vivre un moment de partage et de gourmandise lors de notre atelier « On cuisine\, on dîne ». L’activité se veut un moment convivial où nous préparerons ensemble un délicieux repas de saison\, suivi d’un moment agréable autour de la table pour savourer nos créations. \nLes recettes seront choisies par l’équipe de travailleuses et tout le matériel nécessaire sera fourni par le Centre. \nN’oubliez pas de nous faire part si vous avez des allergies lors de votre inscription. \n\nL’atelier de cuisine sera suivi d’un temps d’échanges convivial en partageant le repas pour souligner la semaine nationale de sensibilisation aux troubles alimentaires. \nQuand la restriction mène à la compulsion : comprendre les différentes formes de compulsions alimentaires et leurs impacts \nUn temps d’échange convivial autour du repas pour mieux comprendre les mécanismes de la restriction alimentaire\, les différentes formes de compulsions alimentaires et leurs répercussions sur le corps et le mental. Un espace bienveillant pour s’informer\, partager et réfléchir à des pistes pour retrouver une relation plus apaisée à l’alimentation.
URL:https://www.liberelles.org/activite/on-cuisine-on-dine-activite-de-sensibilisation-aux-troubles-alimentaires/
LOCATION:Centre de femmes Liber’Elles\, 9381 Côte des Saints\, Mirabel\, Quebec\, J7N 2X4\, Canada
END:VEVENT
END:VCALENDAR