BEGIN:VCALENDAR
VERSION:2.0
PRODID:-//Centre de Femmes Liber&#039;Elles - ECPv6.15.14//NONSGML v1.0//EN
CALSCALE:GREGORIAN
METHOD:PUBLISH
X-ORIGINAL-URL:https://www.liberelles.org
X-WR-CALDESC:Évènements pour Centre de Femmes Liber&#039;Elles
REFRESH-INTERVAL;VALUE=DURATION:PT1H
X-Robots-Tag:noindex
X-PUBLISHED-TTL:PT1H
BEGIN:VTIMEZONE
TZID:America/Toronto
BEGIN:DAYLIGHT
TZOFFSETFROM:-0500
TZOFFSETTO:-0400
TZNAME:EDT
DTSTART:20250309T070000
END:DAYLIGHT
BEGIN:STANDARD
TZOFFSETFROM:-0400
TZOFFSETTO:-0500
TZNAME:EST
DTSTART:20251102T060000
END:STANDARD
BEGIN:DAYLIGHT
TZOFFSETFROM:-0500
TZOFFSETTO:-0400
TZNAME:EDT
DTSTART:20260308T070000
END:DAYLIGHT
BEGIN:STANDARD
TZOFFSETFROM:-0400
TZOFFSETTO:-0500
TZNAME:EST
DTSTART:20261101T060000
END:STANDARD
BEGIN:DAYLIGHT
TZOFFSETFROM:-0500
TZOFFSETTO:-0400
TZNAME:EDT
DTSTART:20270314T070000
END:DAYLIGHT
BEGIN:STANDARD
TZOFFSETFROM:-0400
TZOFFSETTO:-0500
TZNAME:EST
DTSTART:20271107T060000
END:STANDARD
END:VTIMEZONE
BEGIN:VEVENT
DTSTART;VALUE=DATE:20260206
DTEND;VALUE=DATE:20260207
DTSTAMP:20260421T030109
CREATED:20251218T204847Z
LAST-MODIFIED:20260129T185719Z
UID:5064-1770336000-1770422399@www.liberelles.org
SUMMARY:Journée internationale de tolérance zéro pour les mutilations génitales
DESCRIPTION:En cette journée internationale de tolérance zéro pour les mutilations génitales féminines\, nous tenions à prendre la parole sur le sujet.\n\n\n\nCette pratique correspond au retrait\, total ou partiel\, des organes génitaux féminins à des fins non médicales. Généralement effectuée dans certains pays d’Afrique\, du Moyen-Orient et d’Asie\, elle peut engendrer d’importantes complications sur la santé physique\, sexuelle et mentale des femmes. Chaque année\, les mutilations génitales féminines sont subies par environ 4 millions de filles\, donc plus de la moitié sous l’âge de cinq ans.\n\n\n\nAujourd’hui\, nous dénonçons donc cette pratique qui va à l’encontre des droits humains. Nous sommes de tout cœur avec les femmes et les filles qui en ont déjà été victimes\, ainsi qu’avec celles qui pourraient l’être à l’avenir si cette pratique n’est pas éliminée.\n\n\n\n\n\n\nSources (et pour plus d’informations) :\nhttps://www.un.org/…/obse…/female-genital-mutilation-day\n\n\nhttps://www.who.int/…/detail/female-genital-mutilation\n\n\nImage : OFPRA
URL:https://www.liberelles.org/activite/journee-internationale-de-tolerance-zero-pour-les-mutilations-genitales/
END:VEVENT
BEGIN:VEVENT
DTSTART;VALUE=DATE:20260206
DTEND;VALUE=DATE:20260207
DTSTAMP:20260421T030109
CREATED:20251218T190434Z
LAST-MODIFIED:20260129T163000Z
UID:5052-1770336000-1770422399@www.liberelles.org
SUMMARY:CENTRE FERMÉ
DESCRIPTION:
URL:https://www.liberelles.org/activite/centre-ferme-30/2026-02-06/
END:VEVENT
END:VCALENDAR