BEGIN:VCALENDAR
VERSION:2.0
PRODID:-//Centre de Femmes Liber&#039;Elles - ECPv6.15.14//NONSGML v1.0//EN
CALSCALE:GREGORIAN
METHOD:PUBLISH
X-WR-CALNAME:Centre de Femmes Liber&#039;Elles
X-ORIGINAL-URL:https://www.liberelles.org
X-WR-CALDESC:Évènements pour Centre de Femmes Liber&#039;Elles
REFRESH-INTERVAL;VALUE=DURATION:PT1H
X-Robots-Tag:noindex
X-PUBLISHED-TTL:PT1H
BEGIN:VTIMEZONE
TZID:America/Toronto
BEGIN:DAYLIGHT
TZOFFSETFROM:-0500
TZOFFSETTO:-0400
TZNAME:EDT
DTSTART:20250309T070000
END:DAYLIGHT
BEGIN:STANDARD
TZOFFSETFROM:-0400
TZOFFSETTO:-0500
TZNAME:EST
DTSTART:20251102T060000
END:STANDARD
BEGIN:DAYLIGHT
TZOFFSETFROM:-0500
TZOFFSETTO:-0400
TZNAME:EDT
DTSTART:20260308T070000
END:DAYLIGHT
BEGIN:STANDARD
TZOFFSETFROM:-0400
TZOFFSETTO:-0500
TZNAME:EST
DTSTART:20261101T060000
END:STANDARD
BEGIN:DAYLIGHT
TZOFFSETFROM:-0500
TZOFFSETTO:-0400
TZNAME:EDT
DTSTART:20270314T070000
END:DAYLIGHT
BEGIN:STANDARD
TZOFFSETFROM:-0400
TZOFFSETTO:-0500
TZNAME:EST
DTSTART:20271107T060000
END:STANDARD
END:VTIMEZONE
BEGIN:VEVENT
DTSTART;VALUE=DATE:20260211
DTEND;VALUE=DATE:20260212
DTSTAMP:20260420T140000
CREATED:20251218T204924Z
LAST-MODIFIED:20260129T192647Z
UID:5066-1770768000-1770854399@www.liberelles.org
SUMMARY:Journée internationale des femmes et des filles de science
DESCRIPTION:🔬👩‍🔬 Journée internationale des femmes et des filles de science – 11 février\n\n\n \n\n\nCette journée vise à reconnaître la place essentielle des femmes en science\, en technologie\, en ingénierie et en mathématiques\, tout en rappelant qu’elles y sont encore sous-représentées.\n\n\n \n\n\nEncourager les filles à explorer la science\, c’est leur ouvrir des portes\, nourrir leur curiosité et leur montrer que leur intelligence\, leurs idées et leur créativité ont toute leur place dans ces domaines.\n\n\n \n\n\nCette journée nous rappelle que l’accès au savoir\, à la recherche et à l’innovation est aussi une question d’égalité\, de justice et de pouvoir.\n\n\nEncourager les filles à croire en leur intelligence\, leur curiosité et leur légitimité\, c’est transformer le monde de demain.\n\n\n \n\n\nParce que la science avance mieux quand elle est inclusive et diversifiée ✨
URL:https://www.liberelles.org/activite/journee-internationale-des-femmes-et-des-filles-de-science/
END:VEVENT
BEGIN:VEVENT
DTSTART;TZID=America/Toronto:20260211T100000
DTEND;TZID=America/Toronto:20260211T140000
DTSTAMP:20260420T140000
CREATED:20251218T183618Z
LAST-MODIFIED:20251218T183618Z
UID:5043-1770804000-1770818400@www.liberelles.org
SUMMARY:Dîner de l'amitié
DESCRIPTION:À l’occasion de la Saint-Valentin\, le Centre Liber’Elles vous invite à prendre part à un dîner de l’amitié\, un moment doux et rassembleur pour célébrer les liens qui nous unissent. Vous êtes invitées à créer et à partager des cartes de bienveillance\, remplies de mots gentils et de douces attentions. Apportez votre lunch et un un dessert thématique vous sera offert par le Centre. \nDe plus\, vous êtes invitées à porter du rose ou du rouge pour ajouter une touche festive à cette rencontre placée sous le signe de l’amitié\, du partage et de la douceur.
URL:https://www.liberelles.org/activite/diner-de-lamitie-2/
LOCATION:Centre de femmes Liber’Elles\, 9381 Côte des Saints\, Mirabel\, Quebec\, J7N 2X4\, Canada
END:VEVENT
END:VCALENDAR