BEGIN:VCALENDAR
VERSION:2.0
PRODID:-//Centre de Femmes Liber&#039;Elles - ECPv6.15.14//NONSGML v1.0//EN
CALSCALE:GREGORIAN
METHOD:PUBLISH
X-WR-CALNAME:Centre de Femmes Liber&#039;Elles
X-ORIGINAL-URL:https://www.liberelles.org
X-WR-CALDESC:Évènements pour Centre de Femmes Liber&#039;Elles
REFRESH-INTERVAL;VALUE=DURATION:PT1H
X-Robots-Tag:noindex
X-PUBLISHED-TTL:PT1H
BEGIN:VTIMEZONE
TZID:America/Toronto
BEGIN:DAYLIGHT
TZOFFSETFROM:-0500
TZOFFSETTO:-0400
TZNAME:EDT
DTSTART:20250309T070000
END:DAYLIGHT
BEGIN:STANDARD
TZOFFSETFROM:-0400
TZOFFSETTO:-0500
TZNAME:EST
DTSTART:20251102T060000
END:STANDARD
BEGIN:DAYLIGHT
TZOFFSETFROM:-0500
TZOFFSETTO:-0400
TZNAME:EDT
DTSTART:20260308T070000
END:DAYLIGHT
BEGIN:STANDARD
TZOFFSETFROM:-0400
TZOFFSETTO:-0500
TZNAME:EST
DTSTART:20261101T060000
END:STANDARD
BEGIN:DAYLIGHT
TZOFFSETFROM:-0500
TZOFFSETTO:-0400
TZNAME:EDT
DTSTART:20270314T070000
END:DAYLIGHT
BEGIN:STANDARD
TZOFFSETFROM:-0400
TZOFFSETTO:-0500
TZNAME:EST
DTSTART:20271107T060000
END:STANDARD
END:VTIMEZONE
BEGIN:VEVENT
DTSTART;TZID=America/Toronto:20260226T100000
DTEND;TZID=America/Toronto:20260226T120000
DTSTAMP:20260419T142223
CREATED:20251218T180014Z
LAST-MODIFIED:20251218T180014Z
UID:5015-1772100000-1772107200@www.liberelles.org
SUMMARY:Milieu de vie
DESCRIPTION:Le milieu de vie est un moment durant lequel les portes du Centre s’ouvrent pour vous recevoir. Ce service permet aux femmes de se sentir moins seules et isolées en échangeant avec les autres femmes présentent. Il s’agit d’un moment libre durant lequel vous pouvez prendre un café avec une travailleuse\, contribuer à notre casse-tête collectif\, jouer à des jeux de société dans nos locaux\, etc.
URL:https://www.liberelles.org/activite/milieu-de-vie-5/2026-02-26/
LOCATION:Centre de femmes Liber’Elles\, 9381 Côte des Saints\, Mirabel\, Quebec\, J7N 2X4\, Canada
END:VEVENT
BEGIN:VEVENT
DTSTART;TZID=America/Toronto:20260226T130000
DTEND;TZID=America/Toronto:20260226T150000
DTSTAMP:20260419T142223
CREATED:20251218T185826Z
LAST-MODIFIED:20251218T185826Z
UID:5049-1772110800-1772118000@www.liberelles.org
SUMMARY:Atelier "pour en finir avec la culpabilité"
DESCRIPTION:Découvrez les mécanismes de la culpabilité et ses sources : enfance\, croyances limitantes\, pression sociale et peur du rejet. Apprenez à distinguer responsabilité saine et culpabilité toxique\, et repartez avec des outils concrets pour vous libérer de ce poids. \n💡 Technique d’impact incluse : La chaise de la culpabilité \nUne méthode puissante pour externaliser\, comprendre et transformer votre culpabilité en force\, afin de reprendre le contrôle de vos choix et de \nvos émotions. Un atelier pour se respecter\, se libérer et avancer plus léger dans sa vie quotidienne.
URL:https://www.liberelles.org/activite/atelier-pour-en-finir-avec-la-culpabilite/
LOCATION:Centre de femmes Liber’Elles\, 9381 Côte des Saints\, Mirabel\, Quebec\, J7N 2X4\, Canada
END:VEVENT
END:VCALENDAR