BEGIN:VCALENDAR
VERSION:2.0
PRODID:-//Centre de Femmes Liber&#039;Elles - ECPv6.15.14//NONSGML v1.0//EN
CALSCALE:GREGORIAN
METHOD:PUBLISH
X-WR-CALNAME:Centre de Femmes Liber&#039;Elles
X-ORIGINAL-URL:https://www.liberelles.org
X-WR-CALDESC:Évènements pour Centre de Femmes Liber&#039;Elles
REFRESH-INTERVAL;VALUE=DURATION:PT1H
X-Robots-Tag:noindex
X-PUBLISHED-TTL:PT1H
BEGIN:VTIMEZONE
TZID:America/Toronto
BEGIN:DAYLIGHT
TZOFFSETFROM:-0500
TZOFFSETTO:-0400
TZNAME:EDT
DTSTART:20250309T070000
END:DAYLIGHT
BEGIN:STANDARD
TZOFFSETFROM:-0400
TZOFFSETTO:-0500
TZNAME:EST
DTSTART:20251102T060000
END:STANDARD
BEGIN:DAYLIGHT
TZOFFSETFROM:-0500
TZOFFSETTO:-0400
TZNAME:EDT
DTSTART:20260308T070000
END:DAYLIGHT
BEGIN:STANDARD
TZOFFSETFROM:-0400
TZOFFSETTO:-0500
TZNAME:EST
DTSTART:20261101T060000
END:STANDARD
BEGIN:DAYLIGHT
TZOFFSETFROM:-0500
TZOFFSETTO:-0400
TZNAME:EDT
DTSTART:20270314T070000
END:DAYLIGHT
BEGIN:STANDARD
TZOFFSETFROM:-0400
TZOFFSETTO:-0500
TZNAME:EST
DTSTART:20271107T060000
END:STANDARD
END:VTIMEZONE
BEGIN:VEVENT
DTSTART;TZID=America/Toronto:20260304T100000
DTEND;TZID=America/Toronto:20260304T140000
DTSTAMP:20260419T095328
CREATED:20260127T202314Z
LAST-MODIFIED:20260129T162924Z
UID:5080-1772618400-1772632800@www.liberelles.org
SUMMARY:Journée bien-être
DESCRIPTION:Une journée hors du commun\, placée sous le signe du bien-être. Prenez le temps de vous offrir une parenthèse rien que pour vous\, un moment privilégié dédié au soin de soi. À travers cet atelier\, vous découvrirez différentes façons de prendre soin de votre corps et de votre esprit : plusieurs techniques de massage\, l’utilisation des huiles\, les bienfaits des pierres chaudes… et quelques petites surprises pour éveiller vos sens. \nApportez votre lunch pour dîner durant l’atelier.
URL:https://www.liberelles.org/activite/journee-bien-etre/
LOCATION:Centre de femmes Liber’Elles\, 9381 Côte des Saints\, Mirabel\, Quebec\, J7N 2X4\, Canada
END:VEVENT
END:VCALENDAR