BEGIN:VCALENDAR
VERSION:2.0
PRODID:-//Centre de Femmes Liber&#039;Elles - ECPv6.15.14//NONSGML v1.0//EN
CALSCALE:GREGORIAN
METHOD:PUBLISH
X-WR-CALNAME:Centre de Femmes Liber&#039;Elles
X-ORIGINAL-URL:https://www.liberelles.org
X-WR-CALDESC:Évènements pour Centre de Femmes Liber&#039;Elles
REFRESH-INTERVAL;VALUE=DURATION:PT1H
X-Robots-Tag:noindex
X-PUBLISHED-TTL:PT1H
BEGIN:VTIMEZONE
TZID:America/Toronto
BEGIN:DAYLIGHT
TZOFFSETFROM:-0500
TZOFFSETTO:-0400
TZNAME:EDT
DTSTART:20250309T070000
END:DAYLIGHT
BEGIN:STANDARD
TZOFFSETFROM:-0400
TZOFFSETTO:-0500
TZNAME:EST
DTSTART:20251102T060000
END:STANDARD
BEGIN:DAYLIGHT
TZOFFSETFROM:-0500
TZOFFSETTO:-0400
TZNAME:EDT
DTSTART:20260308T070000
END:DAYLIGHT
BEGIN:STANDARD
TZOFFSETFROM:-0400
TZOFFSETTO:-0500
TZNAME:EST
DTSTART:20261101T060000
END:STANDARD
BEGIN:DAYLIGHT
TZOFFSETFROM:-0500
TZOFFSETTO:-0400
TZNAME:EDT
DTSTART:20270314T070000
END:DAYLIGHT
BEGIN:STANDARD
TZOFFSETFROM:-0400
TZOFFSETTO:-0500
TZNAME:EST
DTSTART:20271107T060000
END:STANDARD
END:VTIMEZONE
BEGIN:VEVENT
DTSTART;TZID=America/Toronto:20260325T113000
DTEND;TZID=America/Toronto:20260325T113000
DTSTAMP:20260419T094600
CREATED:20260129T161159Z
LAST-MODIFIED:20260129T161159Z
UID:5123-1774438200-1774438200@www.liberelles.org
SUMMARY:Dîner cabane à sucre (au centre)
DESCRIPTION:Cette année\, c’est la cabane à sucre qui s’invite au Centre. Nous vous préparons un succulent menu traditionnel de cabane à sucre (fèves au lard\, omelette soufflée\, saucisse dans le sirop\, pommes de terre rissolées\, jambon à l’érable\, bacon\, crêpes frisées\, pouding au sirop d’érable\, pain croûté\, cretons\, etc.). Même la tire sur la neige sera incluse. \nInscription avant le 19 mars pour que nous puissions prévoir les portions nécessaires.
URL:https://www.liberelles.org/activite/diner-cabane-a-sucre-au-centre/
LOCATION:Centre de femmes Liber’Elles\, 9381 Côte des Saints\, Mirabel\, Quebec\, J7N 2X4\, Canada
END:VEVENT
END:VCALENDAR