BEGIN:VCALENDAR
VERSION:2.0
PRODID:-//Centre de Femmes Liber&#039;Elles - ECPv6.15.14//NONSGML v1.0//EN
CALSCALE:GREGORIAN
METHOD:PUBLISH
X-ORIGINAL-URL:https://www.liberelles.org
X-WR-CALDESC:Évènements pour Centre de Femmes Liber&#039;Elles
REFRESH-INTERVAL;VALUE=DURATION:PT1H
X-Robots-Tag:noindex
X-PUBLISHED-TTL:PT1H
BEGIN:VTIMEZONE
TZID:America/Toronto
BEGIN:DAYLIGHT
TZOFFSETFROM:-0500
TZOFFSETTO:-0400
TZNAME:EDT
DTSTART:20240310T070000
END:DAYLIGHT
BEGIN:STANDARD
TZOFFSETFROM:-0400
TZOFFSETTO:-0500
TZNAME:EST
DTSTART:20241103T060000
END:STANDARD
BEGIN:DAYLIGHT
TZOFFSETFROM:-0500
TZOFFSETTO:-0400
TZNAME:EDT
DTSTART:20250309T070000
END:DAYLIGHT
BEGIN:STANDARD
TZOFFSETFROM:-0400
TZOFFSETTO:-0500
TZNAME:EST
DTSTART:20251102T060000
END:STANDARD
BEGIN:DAYLIGHT
TZOFFSETFROM:-0500
TZOFFSETTO:-0400
TZNAME:EDT
DTSTART:20260308T070000
END:DAYLIGHT
BEGIN:STANDARD
TZOFFSETFROM:-0400
TZOFFSETTO:-0500
TZNAME:EST
DTSTART:20261101T060000
END:STANDARD
END:VTIMEZONE
BEGIN:VEVENT
DTSTART;TZID=America/Toronto:20251001T103000
DTEND;TZID=America/Toronto:20251001T143000
DTSTAMP:20260419T082536
CREATED:20250909T185756Z
LAST-MODIFIED:20250909T185756Z
UID:4942-1759314600-1759329000@www.liberelles.org
SUMMARY:Sortie aux pommes
DESCRIPTION:Plus de détails à venir prochainement
URL:https://www.liberelles.org/activite/sortie-aux-pommes-4/
END:VEVENT
BEGIN:VEVENT
DTSTART;TZID=America/Toronto:20251002T090000
DTEND;TZID=America/Toronto:20251002T120000
DTSTAMP:20260419T082536
CREATED:20250909T185902Z
LAST-MODIFIED:20250909T185902Z
UID:4944-1759395600-1759406400@www.liberelles.org
SUMMARY:Jardin solidaire - RÉCOLTES
DESCRIPTION:Notre atelier de jardin est l’occasion idéale de découvrir le plaisir de jardiner tout en partageant un moment agréable entre femmes. Lors de chaque rencontre du jardin solidaire\, nous travaillerons à l’entretien du jardin et nous confectionnerons une recette simple à partir des récoltes du moment. Ensemble\, cultivons la nature et créons un espace de partage et de solidarité ! \nJeudi le 4 septembre de 13h00 à 15h00 \nJeudi le 2 septembre de 9h00 à 12h00 – RÉCOLTES
URL:https://www.liberelles.org/activite/jardin-solidaire-recoltes/
LOCATION:Centre de femmes Liber’Elles\, 9381 Côte des Saints\, Mirabel\, Quebec\, J7N 2X4\, Canada
END:VEVENT
BEGIN:VEVENT
DTSTART;TZID=America/Toronto:20251002T133000
DTEND;TZID=America/Toronto:20251002T143000
DTSTAMP:20260419T082536
CREATED:20250909T183246Z
LAST-MODIFIED:20250909T183246Z
UID:4920-1759411800-1759415400@www.liberelles.org
SUMMARY:Yoga sur chaises
DESCRIPTION:Découvrez une pratique douce et inclusive avec notre atelier de yoga sur chaise. Idéal pour tous les niveaux\, cet atelier vous invite à bouger\, respirer et vous recentrer en toute sécurité. Que vous soyez débutant\, en reprise d’activité ou à mobilité réduite\, chaque séance est adaptée pour vous offrir bien-être\, détente et vitalité\, dans le respect de vos capacités. \nPossibilité d’apporter votre tapis si vous le souhaitez. Veuillez prendre note qu’aucun tapis de yoga n’est disponible au Centre.
URL:https://www.liberelles.org/activite/yoga-sur-chaises/2025-10-02/
LOCATION:Centre de femmes Liber’Elles\, 9381 Côte des Saints\, Mirabel\, Quebec\, J7N 2X4\, Canada
END:VEVENT
BEGIN:VEVENT
DTSTART;TZID=America/Toronto:20251014T130000
DTEND;TZID=America/Toronto:20251014T150000
DTSTAMP:20260419T082536
CREATED:20240826T160022Z
LAST-MODIFIED:20251208T163910Z
UID:4904-1760446800-1760454000@www.liberelles.org
SUMMARY:La plume créative
DESCRIPTION:Les mardis sur deux de 13h00 à 15h00 \n** NOUVELLE FORMULE ** \nL’atelier d’écriture créative fait peau neuve cette année avec une formule renouvelée\, résolument tournée vers l’expression artistique et intuitive. Chaque séance sera une invitation à explorer votre imagination à travers différents médiums pour libérer la créativité. \n  \n 
URL:https://www.liberelles.org/activite/ecriture-3/2025-10-14/
LOCATION:Centre de femmes Liber’Elles\, 9381 Côte des Saints\, Mirabel\, Quebec\, J7N 2X4\, Canada
CATEGORIES:Atelier d'écriture
END:VEVENT
BEGIN:VEVENT
DTSTART;TZID=America/Toronto:20251016T133000
DTEND;TZID=America/Toronto:20251016T143000
DTSTAMP:20260419T082536
CREATED:20250909T183246Z
LAST-MODIFIED:20250909T183246Z
UID:4921-1760621400-1760625000@www.liberelles.org
SUMMARY:Yoga sur chaises
DESCRIPTION:Découvrez une pratique douce et inclusive avec notre atelier de yoga sur chaise. Idéal pour tous les niveaux\, cet atelier vous invite à bouger\, respirer et vous recentrer en toute sécurité. Que vous soyez débutant\, en reprise d’activité ou à mobilité réduite\, chaque séance est adaptée pour vous offrir bien-être\, détente et vitalité\, dans le respect de vos capacités. \nPossibilité d’apporter votre tapis si vous le souhaitez. Veuillez prendre note qu’aucun tapis de yoga n’est disponible au Centre.
URL:https://www.liberelles.org/activite/yoga-sur-chaises/2025-10-16/
LOCATION:Centre de femmes Liber’Elles\, 9381 Côte des Saints\, Mirabel\, Quebec\, J7N 2X4\, Canada
END:VEVENT
BEGIN:VEVENT
DTSTART;TZID=America/Toronto:20251020T130000
DTEND;TZID=America/Toronto:20251020T150000
DTSTAMP:20260419T082536
CREATED:20240826T160003Z
LAST-MODIFIED:20240826T160003Z
UID:4900-1760965200-1760972400@www.liberelles.org
SUMMARY:Café Saint-Janvier
DESCRIPTION:Un lundi par mois de 13h00 à 15h00\nLe café soleil est un lieu d’échanges et de partages empreint d’écoute et de respect. Il permet aux participantes de partager un moment toutes ensemble et de discuter sur le sujet du jour.\nEndroit : Centre Culturel Joseph Savard à Saint-Janvier
URL:https://www.liberelles.org/activite/cafe-saint-janvier/2025-10-20/
LOCATION:Centre culturel Joseph Savard\, 13 908 Boul. Curé-Labelle\, St-Janvier\, Québec\, J7J 1L3\, Canada
CATEGORIES:Café soleil
END:VEVENT
BEGIN:VEVENT
DTSTART;TZID=America/Toronto:20251028T130000
DTEND;TZID=America/Toronto:20251028T150000
DTSTAMP:20260419T082536
CREATED:20240826T160022Z
LAST-MODIFIED:20251208T163911Z
UID:4905-1761656400-1761663600@www.liberelles.org
SUMMARY:La plume créative
DESCRIPTION:Les mardis sur deux de 13h00 à 15h00 \n** NOUVELLE FORMULE ** \nL’atelier d’écriture créative fait peau neuve cette année avec une formule renouvelée\, résolument tournée vers l’expression artistique et intuitive. Chaque séance sera une invitation à explorer votre imagination à travers différents médiums pour libérer la créativité. \n  \n 
URL:https://www.liberelles.org/activite/ecriture-3/2025-10-28/
LOCATION:Centre de femmes Liber’Elles\, 9381 Côte des Saints\, Mirabel\, Quebec\, J7N 2X4\, Canada
CATEGORIES:Atelier d'écriture
END:VEVENT
END:VCALENDAR