BEGIN:VCALENDAR
VERSION:2.0
PRODID:-//Centre de Femmes Liber&#039;Elles - ECPv6.15.14//NONSGML v1.0//EN
CALSCALE:GREGORIAN
METHOD:PUBLISH
X-WR-CALNAME:Centre de Femmes Liber&#039;Elles
X-ORIGINAL-URL:https://www.liberelles.org
X-WR-CALDESC:Évènements pour Centre de Femmes Liber&#039;Elles
REFRESH-INTERVAL;VALUE=DURATION:PT1H
X-Robots-Tag:noindex
X-PUBLISHED-TTL:PT1H
BEGIN:VTIMEZONE
TZID:America/Toronto
BEGIN:DAYLIGHT
TZOFFSETFROM:-0500
TZOFFSETTO:-0400
TZNAME:EDT
DTSTART:20240310T070000
END:DAYLIGHT
BEGIN:STANDARD
TZOFFSETFROM:-0400
TZOFFSETTO:-0500
TZNAME:EST
DTSTART:20241103T060000
END:STANDARD
BEGIN:DAYLIGHT
TZOFFSETFROM:-0500
TZOFFSETTO:-0400
TZNAME:EDT
DTSTART:20250309T070000
END:DAYLIGHT
BEGIN:STANDARD
TZOFFSETFROM:-0400
TZOFFSETTO:-0500
TZNAME:EST
DTSTART:20251102T060000
END:STANDARD
BEGIN:DAYLIGHT
TZOFFSETFROM:-0500
TZOFFSETTO:-0400
TZNAME:EDT
DTSTART:20260308T070000
END:DAYLIGHT
BEGIN:STANDARD
TZOFFSETFROM:-0400
TZOFFSETTO:-0500
TZNAME:EST
DTSTART:20261101T060000
END:STANDARD
END:VTIMEZONE
BEGIN:VEVENT
DTSTART;TZID=America/Toronto:20251111T130000
DTEND;TZID=America/Toronto:20251111T150000
DTSTAMP:20260419T095430
CREATED:20240826T160022Z
LAST-MODIFIED:20251208T163911Z
UID:4906-1762866000-1762873200@www.liberelles.org
SUMMARY:La plume créative
DESCRIPTION:Les mardis sur deux de 13h00 à 15h00 \n** NOUVELLE FORMULE ** \nL’atelier d’écriture créative fait peau neuve cette année avec une formule renouvelée\, résolument tournée vers l’expression artistique et intuitive. Chaque séance sera une invitation à explorer votre imagination à travers différents médiums pour libérer la créativité. \n  \n 
URL:https://www.liberelles.org/activite/ecriture-3/2025-11-11/
LOCATION:Centre de femmes Liber’Elles\, 9381 Côte des Saints\, Mirabel\, Quebec\, J7N 2X4\, Canada
CATEGORIES:Atelier d'écriture
END:VEVENT
BEGIN:VEVENT
DTSTART;TZID=America/Toronto:20251117T130000
DTEND;TZID=America/Toronto:20251117T150000
DTSTAMP:20260419T095430
CREATED:20240826T160003Z
LAST-MODIFIED:20240826T160003Z
UID:4901-1763384400-1763391600@www.liberelles.org
SUMMARY:Café Saint-Janvier
DESCRIPTION:Un lundi par mois de 13h00 à 15h00\nLe café soleil est un lieu d’échanges et de partages empreint d’écoute et de respect. Il permet aux participantes de partager un moment toutes ensemble et de discuter sur le sujet du jour.\nEndroit : Centre Culturel Joseph Savard à Saint-Janvier
URL:https://www.liberelles.org/activite/cafe-saint-janvier/2025-11-17/
LOCATION:Centre culturel Joseph Savard\, 13 908 Boul. Curé-Labelle\, St-Janvier\, Québec\, J7J 1L3\, Canada
CATEGORIES:Café soleil
END:VEVENT
BEGIN:VEVENT
DTSTART;TZID=America/Toronto:20251125T100000
DTEND;TZID=America/Toronto:20251125T120000
DTSTAMP:20260419T095430
CREATED:20251124T204810Z
LAST-MODIFIED:20251124T204810Z
UID:4958-1764064800-1764072000@www.liberelles.org
SUMMARY:Milieu de vie
DESCRIPTION:Le milieu de vie est un moment durant lequel les portes du Centre s’ouvrent pour vous recevoir. Ce service permet aux femmes de se sentir moins seules et isolées en échangeant avec les autres femmes présentent. Il s’agit d’un moment libre durant lequel vous pouvez prendre un café avec une travailleuse\, contribuer à notre casse-tête collectif\, jouer à des jeux de société dans nos locaux\, etc.
URL:https://www.liberelles.org/activite/milieu-de-vie-4/2025-11-25/
END:VEVENT
BEGIN:VEVENT
DTSTART;TZID=America/Toronto:20251125T130000
DTEND;TZID=America/Toronto:20251125T153000
DTSTAMP:20260419T095430
CREATED:20251124T205747Z
LAST-MODIFIED:20251124T205747Z
UID:4969-1764075600-1764084600@www.liberelles.org
SUMMARY:Thé et partage sur les micro-agressions du quotidien
DESCRIPTION:Dans le cadre de nos actions de sensibilisation pour les 12 jours d’action contre les violences faites aux femmes\, en collaboration avec le projet AMONT du Cégep de St-Jérôme\, nous recevons Ariane\, Ruby et Léonie pour une activité de sensibilisation sur les micro-agressions au quotidien. Les microagressions sont ces petites phrases ou gestes qui\, sans en avoir l’air\, diminuent les femmes et leur réalité. Lors de cette causerie\, échangeons ensemble pour mieux les reconnaître et y répondre.
URL:https://www.liberelles.org/activite/the-et-partage-sur-les-micro-agressions-du-quotidien/
LOCATION:Centre de femmes Liber’Elles\, 9381 Côte des Saints\, Mirabel\, Quebec\, J7N 2X4\, Canada
END:VEVENT
BEGIN:VEVENT
DTSTART;TZID=America/Toronto:20251126T100000
DTEND;TZID=America/Toronto:20251126T120000
DTSTAMP:20260419T095430
CREATED:20251124T210402Z
LAST-MODIFIED:20251124T210402Z
UID:4971-1764151200-1764158400@www.liberelles.org
SUMMARY:Toasts et café sur les dépendances - Partie 2
DESCRIPTION:Dans le cadre de la Semaine québécoise de prévention des dépendances\, prenons un moment ensemble\, pour jaser d’un sujet qui touche de près ou de loin chacune d’entre nous : les dépendances.  \nQu’il s’agisse d’habitudes\, de substances ou de comportements du quotidien\, on a tous déjà croisé ce défi — personnellement ou dans notre entourage. Les causeries seront animée par Christine Pilon\, intervenante spécialiste en prévention des dépendances globales à l’organisme Intersection des Laurentides.  \nAvec son approche humaine et accessible\, Christine nous accompagnera en deux rencontres. Partie 1 = Comprendre les dépendances globales (comment elles se développent\, comment elles se présentent et comment on peut s’en protéger) / Partie 2 = Quand le soutien devient lourd : proche aidance & automédication\, parce que prendre soin des autres peut parfois nous amener à nous oublier nous-mêmes. Aucune théorie compliquée\, seulement des échanges bienveillants\, des pistes de réflexion concrètes et des outils pour mieux reconnaître\, prévenir et accompagner.
URL:https://www.liberelles.org/activite/toasts-et-cafe-sur-les-dependances-partie-2/
LOCATION:Centre de femmes Liber’Elles\, 9381 Côte des Saints\, Mirabel\, Quebec\, J7N 2X4\, Canada
END:VEVENT
BEGIN:VEVENT
DTSTART;TZID=America/Toronto:20251126T130000
DTEND;TZID=America/Toronto:20251126T150000
DTSTAMP:20260419T095430
CREATED:20251124T204810Z
LAST-MODIFIED:20251124T204810Z
UID:4959-1764162000-1764169200@www.liberelles.org
SUMMARY:Milieu de vie
DESCRIPTION:Le milieu de vie est un moment durant lequel les portes du Centre s’ouvrent pour vous recevoir. Ce service permet aux femmes de se sentir moins seules et isolées en échangeant avec les autres femmes présentent. Il s’agit d’un moment libre durant lequel vous pouvez prendre un café avec une travailleuse\, contribuer à notre casse-tête collectif\, jouer à des jeux de société dans nos locaux\, etc.
URL:https://www.liberelles.org/activite/milieu-de-vie-4/2025-11-26/
END:VEVENT
BEGIN:VEVENT
DTSTART;TZID=America/Toronto:20251127T100000
DTEND;TZID=America/Toronto:20251127T120000
DTSTAMP:20260419T095430
CREATED:20251124T204810Z
LAST-MODIFIED:20251124T204810Z
UID:4960-1764237600-1764244800@www.liberelles.org
SUMMARY:Milieu de vie
DESCRIPTION:Le milieu de vie est un moment durant lequel les portes du Centre s’ouvrent pour vous recevoir. Ce service permet aux femmes de se sentir moins seules et isolées en échangeant avec les autres femmes présentent. Il s’agit d’un moment libre durant lequel vous pouvez prendre un café avec une travailleuse\, contribuer à notre casse-tête collectif\, jouer à des jeux de société dans nos locaux\, etc.
URL:https://www.liberelles.org/activite/milieu-de-vie-4/2025-11-27/
END:VEVENT
BEGIN:VEVENT
DTSTART;TZID=America/Toronto:20251127T130000
DTEND;TZID=America/Toronto:20251127T150000
DTSTAMP:20260419T095430
CREATED:20251124T210517Z
LAST-MODIFIED:20251124T210517Z
UID:4973-1764248400-1764255600@www.liberelles.org
SUMMARY:activité pour les douze jours d’action contre les violences faites aux femmes
DESCRIPTION:Dans le cadre des 12 jours d’action contre les violences faites aux femmes\, joignez-vous à nous pour une activité de sensibilisation autour du documentaire québécois Après coups. Ce film bouleversant donne la parole à des femmes qui\, après avoir survécu à la violence\, reprennent leur pouvoir et reconstruisent leur vie. \nCes douze jours débutent le 25 novembre\, journée internationale pour l’élimination de la violence à l’égard des femmes\, et se concluent le 6 décembre\, date anniversaire de la tragédie de Polytechnique\, en mémoire des 14 femmes assassinées parce qu’elles étaient des femmes. \nL’activité sera suivie d’une discussion ouverte afin de réfléchir ensemble aux réalités encore bien présentes\, aux enjeux entourant la violence envers les femmes et aux façons de soutenir le changement.
URL:https://www.liberelles.org/activite/activite-pour-les-douze-jours-daction-contre-les-violences-faites-aux-femmes/
LOCATION:Centre de femmes Liber’Elles\, 9381 Côte des Saints\, Mirabel\, Quebec\, J7N 2X4\, Canada
END:VEVENT
BEGIN:VEVENT
DTSTART;TZID=America/Toronto:20251128T090000
DTEND;TZID=America/Toronto:20251128T120000
DTSTAMP:20260419T095430
CREATED:20251124T212538Z
LAST-MODIFIED:20251124T212538Z
UID:4983-1764320400-1764331200@www.liberelles.org
SUMMARY:Centre ouvert
DESCRIPTION:Centre ouvert selon les heures régulières \n9h00 à 12h00
URL:https://www.liberelles.org/activite/centre-ouvert-3/2025-11-28/
END:VEVENT
END:VCALENDAR