BEGIN:VCALENDAR
VERSION:2.0
PRODID:-//Centre de Femmes Liber&#039;Elles - ECPv6.15.14//NONSGML v1.0//EN
CALSCALE:GREGORIAN
METHOD:PUBLISH
X-ORIGINAL-URL:https://www.liberelles.org
X-WR-CALDESC:Évènements pour Centre de Femmes Liber&#039;Elles
REFRESH-INTERVAL;VALUE=DURATION:PT1H
X-Robots-Tag:noindex
X-PUBLISHED-TTL:PT1H
BEGIN:VTIMEZONE
TZID:America/Toronto
BEGIN:DAYLIGHT
TZOFFSETFROM:-0500
TZOFFSETTO:-0400
TZNAME:EDT
DTSTART:20240310T070000
END:DAYLIGHT
BEGIN:STANDARD
TZOFFSETFROM:-0400
TZOFFSETTO:-0500
TZNAME:EST
DTSTART:20241103T060000
END:STANDARD
BEGIN:DAYLIGHT
TZOFFSETFROM:-0500
TZOFFSETTO:-0400
TZNAME:EDT
DTSTART:20250309T070000
END:DAYLIGHT
BEGIN:STANDARD
TZOFFSETFROM:-0400
TZOFFSETTO:-0500
TZNAME:EST
DTSTART:20251102T060000
END:STANDARD
BEGIN:DAYLIGHT
TZOFFSETFROM:-0500
TZOFFSETTO:-0400
TZNAME:EDT
DTSTART:20260308T070000
END:DAYLIGHT
BEGIN:STANDARD
TZOFFSETFROM:-0400
TZOFFSETTO:-0500
TZNAME:EST
DTSTART:20261101T060000
END:STANDARD
BEGIN:DAYLIGHT
TZOFFSETFROM:-0500
TZOFFSETTO:-0400
TZNAME:EDT
DTSTART:20270314T070000
END:DAYLIGHT
BEGIN:STANDARD
TZOFFSETFROM:-0400
TZOFFSETTO:-0500
TZNAME:EST
DTSTART:20271107T060000
END:STANDARD
END:VTIMEZONE
BEGIN:VEVENT
DTSTART;TZID=America/Toronto:20251218T120000
DTEND;TZID=America/Toronto:20260105T180000
DTSTAMP:20260421T161632
CREATED:20251124T205416Z
LAST-MODIFIED:20251124T205416Z
UID:4967-1766059200-1767636000@www.liberelles.org
SUMMARY:CENTRE FERMÉ
DESCRIPTION:Veuillez prendre note que le Centre sera fermé pendant le temps des fêtes\, soit du jeudi 18 décembre dès 12h00 au lundi 5 janvier inclusivement. Nos travailleuses seront de retour au bureau dès le mardi 6 janvier à 9h00.\n\n\n\nPour toutes urgences concernant la violence conjugale (écoute\, demande d’hébergement\, demande de suivi externe\, etc.)\, vous pouvez contacter SOS Violence Conjugale en composant le 1-800-363-9010 (service disponible 24/7)\nhttps://sosviolenceconjugale.ca/fr\n\n\n\nPour toutes urgences autres (itinérance\, santé mentale\, etc.)\, vous pouvez contacter l’accueil psychosocial en composant le 811 option 2 (service disponible 24/7).\n\n\nAu plaisir de vous retrouvez en janvier
URL:https://www.liberelles.org/activite/centre-ferme-29/
END:VEVENT
BEGIN:VEVENT
DTSTART;TZID=America/Toronto:20260106T080000
DTEND;TZID=America/Toronto:20260109T170000
DTSTAMP:20260421T161632
CREATED:20251218T174502Z
LAST-MODIFIED:20251218T174502Z
UID:4992-1767686400-1767978000@www.liberelles.org
SUMMARY:Semaine de restructuration de l'organisme
DESCRIPTION:6 au 9 janvier 2026 = Semaine de restructuration et d’organisation du Centre pour les activités hiver-printemps \nNos travailleuses seront présentes au bureau\, mais il n’y aura pas d’ateliers ni de milieu de vie durant cette période.
URL:https://www.liberelles.org/activite/semaine-de-restructuration-de-lorganisme/
LOCATION:Centre de femmes Liber’Elles\, 9381 Côte des Saints\, Mirabel\, Quebec\, J7N 2X4\, Canada
END:VEVENT
BEGIN:VEVENT
DTSTART;TZID=America/Toronto:20260112T093000
DTEND;TZID=America/Toronto:20260112T113000
DTSTAMP:20260421T161632
CREATED:20240826T160021Z
LAST-MODIFIED:20260407T175022Z
UID:4175-1768210200-1768217400@www.liberelles.org
SUMMARY:Les tricoteuses (atelier de tricot)
DESCRIPTION:Les lundis de 9h30 à 11h30 \nC’est dans l’entraide et le plaisir que nos tricoteuses tricotent pour différentes causes tout au long de la saison ou pour des projets personnels.\nSi vous avez une idée de projet pour une cause et/ou un organisme qui vous tiennent à cœur\, nous avons actuellement des disponibilités pour un projet de tricot.\nMatériel fourni par le Centre pour les projets.
URL:https://www.liberelles.org/activite/les-tricoteuses-atelier-de-tricot/2026-01-12/
LOCATION:Centre de femmes Liber’Elles\, 9381 Côte des Saints\, Mirabel\, Quebec\, J7N 2X4\, Canada
CATEGORIES:Tricot
END:VEVENT
BEGIN:VEVENT
DTSTART;TZID=America/Toronto:20260112T130000
DTEND;TZID=America/Toronto:20260112T150000
DTSTAMP:20260421T161632
CREATED:20251218T180248Z
LAST-MODIFIED:20260407T175348Z
UID:5017-1768222800-1768230000@www.liberelles.org
SUMMARY:Café Saint-Janvier
DESCRIPTION:Le café causerie est un lieu d’échanges et de partages empreint d’écoute et de respect. Il permet aux participantes de partager un moment toutes ensemble et de discuter sur le sujet du jour. \nEndroit : Centre Culturel Joseph Savard à Saint-Janvier
URL:https://www.liberelles.org/activite/cafe-saint-janvier-2/2026-01-12/
LOCATION:Centre culturel Joseph Savard\, 13 908 Boul. Curé-Labelle\, St-Janvier\, Québec\, J7J 1L3\, Canada
CATEGORIES:Café soleil
END:VEVENT
BEGIN:VEVENT
DTSTART;TZID=America/Toronto:20260113T100000
DTEND;TZID=America/Toronto:20260113T120000
DTSTAMP:20260421T161632
CREATED:20251218T180014Z
LAST-MODIFIED:20251218T180014Z
UID:5007-1768298400-1768305600@www.liberelles.org
SUMMARY:Milieu de vie
DESCRIPTION:Le milieu de vie est un moment durant lequel les portes du Centre s’ouvrent pour vous recevoir. Ce service permet aux femmes de se sentir moins seules et isolées en échangeant avec les autres femmes présentent. Il s’agit d’un moment libre durant lequel vous pouvez prendre un café avec une travailleuse\, contribuer à notre casse-tête collectif\, jouer à des jeux de société dans nos locaux\, etc.
URL:https://www.liberelles.org/activite/milieu-de-vie-5/2026-01-13/
LOCATION:Centre de femmes Liber’Elles\, 9381 Côte des Saints\, Mirabel\, Quebec\, J7N 2X4\, Canada
END:VEVENT
BEGIN:VEVENT
DTSTART;TZID=America/Toronto:20260114T130000
DTEND;TZID=America/Toronto:20260114T150000
DTSTAMP:20260421T161632
CREATED:20251218T180014Z
LAST-MODIFIED:20251218T180014Z
UID:5008-1768395600-1768402800@www.liberelles.org
SUMMARY:Milieu de vie
DESCRIPTION:Le milieu de vie est un moment durant lequel les portes du Centre s’ouvrent pour vous recevoir. Ce service permet aux femmes de se sentir moins seules et isolées en échangeant avec les autres femmes présentent. Il s’agit d’un moment libre durant lequel vous pouvez prendre un café avec une travailleuse\, contribuer à notre casse-tête collectif\, jouer à des jeux de société dans nos locaux\, etc.
URL:https://www.liberelles.org/activite/milieu-de-vie-5/2026-01-14/
LOCATION:Centre de femmes Liber’Elles\, 9381 Côte des Saints\, Mirabel\, Quebec\, J7N 2X4\, Canada
END:VEVENT
BEGIN:VEVENT
DTSTART;TZID=America/Toronto:20260119T093000
DTEND;TZID=America/Toronto:20260119T113000
DTSTAMP:20260421T161632
CREATED:20240826T160021Z
LAST-MODIFIED:20260407T175022Z
UID:4996-1768815000-1768822200@www.liberelles.org
SUMMARY:Les tricoteuses (atelier de tricot)
DESCRIPTION:Les lundis de 9h30 à 11h30 \nC’est dans l’entraide et le plaisir que nos tricoteuses tricotent pour différentes causes tout au long de la saison ou pour des projets personnels.\nSi vous avez une idée de projet pour une cause et/ou un organisme qui vous tiennent à cœur\, nous avons actuellement des disponibilités pour un projet de tricot.\nMatériel fourni par le Centre pour les projets.
URL:https://www.liberelles.org/activite/les-tricoteuses-atelier-de-tricot/2026-01-19/
LOCATION:Centre de femmes Liber’Elles\, 9381 Côte des Saints\, Mirabel\, Quebec\, J7N 2X4\, Canada
CATEGORIES:Tricot
END:VEVENT
BEGIN:VEVENT
DTSTART;TZID=America/Toronto:20260120T110000
DTEND;TZID=America/Toronto:20260120T123000
DTSTAMP:20260421T161632
CREATED:20251218T181452Z
LAST-MODIFIED:20251218T181452Z
UID:5022-1768906800-1768912200@www.liberelles.org
SUMMARY:Les midis sexo
DESCRIPTION:Vous avez des questions sur la sexualité et/ou envie d’en discuter? Abigaël\, notre stagiaire en sexologie\, apportera de l’information utile pour répondre à vos questions ou sur des sujets de discussion en lien avec la sexualité féminine. \nVenez passer un moment avec nous\, où vos questions pourront éclater aussi spontanément que du popcorn ! \nN’oubliez pas d’apporter votre dîner !
URL:https://www.liberelles.org/activite/les-midis-sexo/2026-01-20/
LOCATION:Centre de femmes Liber’Elles\, 9381 Côte des Saints\, Mirabel\, Quebec\, J7N 2X4\, Canada
END:VEVENT
BEGIN:VEVENT
DTSTART;TZID=America/Toronto:20260120T130000
DTEND;TZID=America/Toronto:20260120T150000
DTSTAMP:20260421T161632
CREATED:20251218T181939Z
LAST-MODIFIED:20260407T175310Z
UID:5025-1768914000-1768921200@www.liberelles.org
SUMMARY:La plume créative
DESCRIPTION:** NOUVELLE FORMULE ** \nL’atelier La Plume Créative du mardi vous propose cette année une formule résolument renouvelée\, explorant les deux visages de la créativité : l’art et l’écriture. Chaque séance sera une invitation à voyager entre ces deux univers\, en alternant exercices d’écriture intuitive et explorations artistiques\, accompagnés d’un temps de partage. \nLes séances combinent mots\, poésie\, récits\, dessin\, collage et peinture pour libérer votre imagination et faire émerger votre expression unique\, de manière ludique et intuitive.
URL:https://www.liberelles.org/activite/la-plume-creative/2026-01-20/
LOCATION:Centre de femmes Liber’Elles\, 9381 Côte des Saints\, Mirabel\, Quebec\, J7N 2X4\, Canada
CATEGORIES:Atelier d'écriture
END:VEVENT
BEGIN:VEVENT
DTSTART;TZID=America/Toronto:20260121T130000
DTEND;TZID=America/Toronto:20260121T150000
DTSTAMP:20260421T161632
CREATED:20251218T182428Z
LAST-MODIFIED:20251218T182428Z
UID:5032-1769000400-1769007600@www.liberelles.org
SUMMARY:Documentaire "J'ai souvenir encore"
DESCRIPTION:Selon la Société Alzheimer\, plus de 187 700 personnes vivent avec un trouble neurocognitif au Québec en 2025\, un nombre qui devrait dépasser les 360 000 personnes d’ici 2050. L’Alzheimer en est la forme la plus répandue\, représentant plus de 60 % des cas. \nDans le cadre du mois de sensibilisation à la maladie d’Alzheimer (tout le mois de janvier)\, nous visionnerons le documentaire “J’ai souvenir encore” à travers lequel l’animatrice France Beaudoin part à la rencontre de personnes aînées et de spécialistes pour révéler les bienfaits insoupçonnés de la musique dans la prise en charge de la maladie d’Alzheimer. \nUn moment d’échanges et de partages suivra le visionnement du documentaire.
URL:https://www.liberelles.org/activite/documentaire-jai-souvenir-encore/
LOCATION:Centre de femmes Liber’Elles\, 9381 Côte des Saints\, Mirabel\, Quebec\, J7N 2X4\, Canada
END:VEVENT
BEGIN:VEVENT
DTSTART;TZID=America/Toronto:20260122T093000
DTEND;TZID=America/Toronto:20260122T093000
DTSTAMP:20260421T161632
CREATED:20251218T183134Z
LAST-MODIFIED:20260129T160117Z
UID:5034-1769074200-1769074200@www.liberelles.org
SUMMARY:Réunion d'équipe
DESCRIPTION:Veuillez prendre note que les travailleuses ne seront pas disponibles pour le milieu de vie ou pour répondre aux appels
URL:https://www.liberelles.org/activite/reunion-dequipe-11/2026-01-22/
END:VEVENT
BEGIN:VEVENT
DTSTART;TZID=America/Toronto:20260122T130000
DTEND;TZID=America/Toronto:20260122T150000
DTSTAMP:20260421T161632
CREATED:20251218T180014Z
LAST-MODIFIED:20251218T180014Z
UID:5009-1769086800-1769094000@www.liberelles.org
SUMMARY:Milieu de vie
DESCRIPTION:Le milieu de vie est un moment durant lequel les portes du Centre s’ouvrent pour vous recevoir. Ce service permet aux femmes de se sentir moins seules et isolées en échangeant avec les autres femmes présentent. Il s’agit d’un moment libre durant lequel vous pouvez prendre un café avec une travailleuse\, contribuer à notre casse-tête collectif\, jouer à des jeux de société dans nos locaux\, etc.
URL:https://www.liberelles.org/activite/milieu-de-vie-5/2026-01-22/
LOCATION:Centre de femmes Liber’Elles\, 9381 Côte des Saints\, Mirabel\, Quebec\, J7N 2X4\, Canada
END:VEVENT
BEGIN:VEVENT
DTSTART;VALUE=DATE:20260124
DTEND;VALUE=DATE:20260125
DTSTAMP:20260421T161632
CREATED:20251218T204727Z
LAST-MODIFIED:20251218T204727Z
UID:5062-1769212800-1769299199@www.liberelles.org
SUMMARY:Journée internationale du sport féminin
DESCRIPTION:
URL:https://www.liberelles.org/activite/journee-internationale-du-sport-feminin/
END:VEVENT
BEGIN:VEVENT
DTSTART;TZID=America/Toronto:20260126T093000
DTEND;TZID=America/Toronto:20260126T113000
DTSTAMP:20260421T161632
CREATED:20240826T160021Z
LAST-MODIFIED:20260407T175022Z
UID:4997-1769419800-1769427000@www.liberelles.org
SUMMARY:Les tricoteuses (atelier de tricot)
DESCRIPTION:Les lundis de 9h30 à 11h30 \nC’est dans l’entraide et le plaisir que nos tricoteuses tricotent pour différentes causes tout au long de la saison ou pour des projets personnels.\nSi vous avez une idée de projet pour une cause et/ou un organisme qui vous tiennent à cœur\, nous avons actuellement des disponibilités pour un projet de tricot.\nMatériel fourni par le Centre pour les projets.
URL:https://www.liberelles.org/activite/les-tricoteuses-atelier-de-tricot/2026-01-26/
LOCATION:Centre de femmes Liber’Elles\, 9381 Côte des Saints\, Mirabel\, Quebec\, J7N 2X4\, Canada
CATEGORIES:Tricot
END:VEVENT
BEGIN:VEVENT
DTSTART;TZID=America/Toronto:20260127T130000
DTEND;TZID=America/Toronto:20260127T150000
DTSTAMP:20260421T161632
CREATED:20251218T180014Z
LAST-MODIFIED:20251218T180014Z
UID:5010-1769518800-1769526000@www.liberelles.org
SUMMARY:Milieu de vie
DESCRIPTION:Le milieu de vie est un moment durant lequel les portes du Centre s’ouvrent pour vous recevoir. Ce service permet aux femmes de se sentir moins seules et isolées en échangeant avec les autres femmes présentent. Il s’agit d’un moment libre durant lequel vous pouvez prendre un café avec une travailleuse\, contribuer à notre casse-tête collectif\, jouer à des jeux de société dans nos locaux\, etc.
URL:https://www.liberelles.org/activite/milieu-de-vie-5/2026-01-27/
LOCATION:Centre de femmes Liber’Elles\, 9381 Côte des Saints\, Mirabel\, Quebec\, J7N 2X4\, Canada
END:VEVENT
BEGIN:VEVENT
DTSTART;TZID=America/Toronto:20260128T130000
DTEND;TZID=America/Toronto:20260128T150000
DTSTAMP:20260421T161632
CREATED:20251218T183325Z
LAST-MODIFIED:20260129T155938Z
UID:5038-1769605200-1769612400@www.liberelles.org
SUMMARY:Atelier trucs et astuces
DESCRIPTION:Atelier Trucs et astuces se veut un espace d’apprentissage\, de transmission et de recyclage\, où les savoir-faire se partagent et se valorisent entre femmes. Cet atelier a été conçu pour partager des conseils simples\, des outils efficaces et des idées inspirantes afin de faciliter la vie de tous les jours. Cet espace d’échange se veut bienveillant\, convivial et utile ou chaque participante apporte ses connaissances et ses compétences dans différents domaines : couture\, tricot\, création de linge de table\, sous-plats\, cannage\, fabrication de savon artisanal et bien d’autres techniques. Cet atelier favorise l’entraide\, la créativité et la valorisation des talents\, tout en donnant une seconde vie aux matériaux. Il est également orienté vers la confection de produits destinés à la revente\, afin de lever des fonds pour le centre de femmes Liber’Elles. \nRejoignez-nous pour découvrir des solutions adaptées à vos besoins et votre réalité.
URL:https://www.liberelles.org/activite/atelier-trucs-et-astuces/2026-01-28/
LOCATION:Centre de femmes Liber’Elles\, 9381 Côte des Saints\, Mirabel\, Quebec\, J7N 2X4\, Canada
END:VEVENT
BEGIN:VEVENT
DTSTART;TZID=America/Toronto:20260129T100000
DTEND;TZID=America/Toronto:20260129T140000
DTSTAMP:20260421T161632
CREATED:20251218T180801Z
LAST-MODIFIED:20260127T193501Z
UID:5020-1769680800-1769695200@www.liberelles.org
SUMMARY:Créations de bracelets d'intentions 2026
DESCRIPTION:Atelier création de bracelets en perles – Vœux pour l’année à venir ✨ \nLors de cet atelier\, chacune est invitée à créer un bracelet en perles unique\, en choisissant couleurs et matières qui symbolisent ses vœux\, intentions ou aspirations pour l’année à venir. Chaque perle représente un souhait : bien-être\, sérénité\, réussite\, confiance ou simplement un moment pour soi. \nCe temps de création est un moment de partage\, de créativité et de réflexion positive\, permettant de repartir avec un bracelet porteur de sens\, à garder comme rappel de ses intentions tout au long de l’année. \nApportez votre lunch pour dîner toutes ensemble. \nTout le matériel nécessaire pour la confection des bracelets sera fourni par le Centre.
URL:https://www.liberelles.org/activite/creations-de-bracelets-dintentions-2026/
LOCATION:Centre de femmes Liber’Elles\, 9381 Côte des Saints\, Mirabel\, Quebec\, J7N 2X4\, Canada
END:VEVENT
END:VCALENDAR